BEGIN:VCALENDAR
VERSION:2.0
PRODID:icalendar-ruby
CALSCALE:GREGORIAN
METHOD:PUBLISH
BEGIN:VEVENT
DTSTAMP:20260421T162346Z
UID:19-199707@highlandslutheran.org
DTSTART:20231119T170000Z
DTEND:20231119T180000Z
CLASS:PUBLIC
CREATED:20260421T095749
DESCRIPTION:
LAST-MODIFIED:20260421T095749
LOCATION:7375 Samuel Dr\, Denver\, CO 80221
SUMMARY:Sunday Service
URL;VALUE=URI:https://highlandslutheran.org/events/sunday-service/2023-11-1
 9
END:VEVENT
END:VCALENDAR
